BEGIN:VCALENDAR
VERSION:2.0
PRODID:-//https://glocesteredc.org///NONSGML kigkonsult.se iCalcreator 2.10.15//
METHOD:PUBLISH
BEGIN:VEVENT
UID:20260423T080133UTC-4144Hha9RS@https://glocesteredc.org/
DTSTAMP:20260423T080133Z
DESCRIPTION:Join in the Spirit of the Ancients & Horribles 100th Independen
 ce Day Celebrations.  Everyone is invited to parade your artistic talents\
 , your craziest outfits\, and outlandish floats for all to enjoy! \nCertif
 icates to be awarded: Most Ancient & Horrible\; Most Patriotic\; Best Walk
 ing Group\nJudging will take place at 4:00pm on July 4th.  If you would li
 ke to have your float or walking group judged\, you need to be registered.
   Please register online https:www.glocesterri.gov by Thursday July 2nd\, 
 2026.  In person Saturday\, July 4th at Town Hall 10:00 am -12:00pm. \nPar
 ade kicks off at 4:00 pm on Saturday\, July 4th! \n  https://glocesteredc.
 org/events/event/35-the-100th-ancients-horribles-independence-day-parade
DTSTART:20260704T160000Z
DTEND:20260704T180000Z
LOCATION:Town of Chepachet (Chepachet\, Rhode Island)
SUMMARY:The 100th Ancients & Horribles Independence Day Parade
URL:https://glocesteredc.org/events/event/35-the-100th-ancients-horribles-i
 ndependence-day-parade
END:VEVENT
END:VCALENDAR
